0.25
0
0
-0.25
627357.3253
4762067.14644
