0.25
0
0
-0.25
637639.36008
4757642.15609
