0.25
0
0
-0.25
627486.36142
4755126.85433
