0.25
0
0
-0.25
620808.73792
4748060.31893
