0.25
0
0
-0.25
631018.50635
4748252.33341
