0.25
0
0
-0.25
644631.63689
4748531.9387
