0.25
0
0
-0.25
637871.51152
4746075.43874
