0.25
0
0
-0.25
641275.94556
4746146.16108
