0.25
0
0
-0.25
657976.91886
4760405.42924
