0.25
0
0
-0.25
668225.64917
4758339.92914
