0.25
0
0
-0.25
661483.34998
4755859.64617
