0.25
0
0
-0.25
651335.77241
4753308.57829
