0.25
0
0
-0.25
661592.43749
4751232.93364
