0.25
0
0
-0.25
664994.33716
4751315.5356
