0.25
0
0
-0.25
681820.06696
4758694.38029
