0.25
0
0
-0.25
573263.75427
4738111.30864
