0.25
0
0
-0.25
614194.09577
4736373.76116
