0.25
0
0
-0.25
614232.3739
4734060.40503
