0.25
0
0
-0.25
614308.86785
4729433.7551
