0.25
0
0
-0.25
631150.7049
4741312.26646
