0.25
0
0
-0.25
644777.63039
4741592.03378
