0.25
0
0
-0.25
631194.69808
4738998.92667
