0.25
0
0
-0.25
644874.74446
4736965.42091
