0.25
0
0
-0.25
641513.15187
4734579.59506
