0.25
0
0
-0.25
644923.28444
4734652.10523
