0.25
0
0
-0.25
631370.61344
4729745.60816
