0.25
0
0
-0.25
661755.91343
4744292.98089
