0.25
0
0
-0.25
542693.96423
4721646.14706
