0.25
0
0
-0.25
549542.00472
4719381.33701
