0.25
0
0
-0.25
553029.4709
4710155.10887
