0.25
0
0
-0.25
573435.55157
4721917.81095
