0.25
0
0
-0.25
580266.79816
4721996.92957
