0.25
0
0
-0.25
587098.07912
4722082.76997
