0.25
0
0
-0.25
590513.7154
4722128.21508
