0.25
0
0
-0.25
566626.45426
4719532.10191
