0.25
0
0
-0.25
583766.10956
4715099.19775
