0.25
0
0
-0.25
577004.72291
4708076.90356
