0.25
0
0
-0.25
604176.40529
4722327.01314
