0.25
0
0
-0.25
614499.82593
4717867.16729
