0.25
0
0
-0.25
600928.65235
4710708.38995
