0.25
0
0
-0.25
631458.48952
4725119.05455
