0.25
0
0
-0.25
628086.53353
4722739.95247
