0.25
0
0
-0.25
621295.32912
4720300.1583
