0.25
0
0
-0.25
641797.19731
4720699.6566
