0.25
0
0
-0.25
631590.07614
4718178.95277
