0.25
0
0
-0.25
559931.82997
4703273.91386
