0.25
0
0
-0.25
577030.26945
4705763.68864
