0.25
0
0
-0.25
570299.27112
4694122.05873
