0.25
0
0
-0.25
601029.21837
4703768.66877
