0.25
0
0
-0.25
614728.39411
4703987.41248
